BEGIN:VCALENDAR
VERSION:2.0
PRODID:-//Stockland Parish Council - ECPv6.15.18//NONSGML v1.0//EN
CALSCALE:GREGORIAN
METHOD:PUBLISH
X-WR-CALNAME:Stockland Parish Council
X-ORIGINAL-URL:https://www.stocklandpc.org.uk
X-WR-CALDESC:Events for Stockland Parish Council
REFRESH-INTERVAL;VALUE=DURATION:PT1H
X-Robots-Tag:noindex
X-PUBLISHED-TTL:PT1H
BEGIN:VTIMEZONE
TZID:UTC
BEGIN:STANDARD
TZOFFSETFROM:+0000
TZOFFSETTO:+0000
TZNAME:UTC
DTSTART:20170101T000000
END:STANDARD
END:VTIMEZONE
BEGIN:VEVENT
DTSTART;TZID=UTC:20200630T193000
DTEND;TZID=UTC:20200630T193000
DTSTAMP:20260420T152927
CREATED:20200302T142831Z
LAST-MODIFIED:20200302T142831Z
UID:361-1593545400-1593545400@www.stocklandpc.org.uk
SUMMARY:Parish Council Meeting
DESCRIPTION:Parish Council meetings are on the last Tuesday of the month\, held in the Victory Hall Committee Room\, Stockland\, EX14 9EF
URL:https://www.stocklandpc.org.uk/event/parish-council-meeting-6
LOCATION:Victory Hall Committee Room\, Victory Hall Committee Room\, Stockland\, EX14 9EF\, United Kingdom
CATEGORIES:Parish Council Meetings
ORGANIZER;CN="Stockland Parish Council":MAILTO:clerk@stocklandpc.org.uk
END:VEVENT
BEGIN:VEVENT
DTSTART;TZID=UTC:20200526T193000
DTEND;TZID=UTC:20200526T193000
DTSTAMP:20260420T152927
CREATED:20200302T142757Z
LAST-MODIFIED:20200302T142757Z
UID:358-1590521400-1590521400@www.stocklandpc.org.uk
SUMMARY:Annual Parish Council Meeting
DESCRIPTION:Parish Council meetings are on the last Tuesday of the month\, held in the Victory Hall Committee Room\, Stockland\, EX14 9EF
URL:https://www.stocklandpc.org.uk/event/annual-parish-council-meeting
LOCATION:Victory Hall Committee Room\, Victory Hall Committee Room\, Stockland\, EX14 9EF\, United Kingdom
CATEGORIES:Parish Council Meetings
ORGANIZER;CN="Stockland Parish Council":MAILTO:clerk@stocklandpc.org.uk
END:VEVENT
BEGIN:VEVENT
DTSTART;TZID=UTC:20200428T193000
DTEND;TZID=UTC:20200428T193000
DTSTAMP:20260420T152927
CREATED:20200302T142727Z
LAST-MODIFIED:20200302T142727Z
UID:355-1588102200-1588102200@www.stocklandpc.org.uk
SUMMARY:Parish Council Meeting
DESCRIPTION:Parish Council meetings are on the last Tuesday of the month\, held in the Victory Hall Committee Room\, Stockland\, EX14 9EF
URL:https://www.stocklandpc.org.uk/event/parish-council-meeting-5
LOCATION:Victory Hall Committee Room\, Victory Hall Committee Room\, Stockland\, EX14 9EF\, United Kingdom
CATEGORIES:Parish Council Meetings
ORGANIZER;CN="Stockland Parish Council":MAILTO:clerk@stocklandpc.org.uk
END:VEVENT
BEGIN:VEVENT
DTSTART;TZID=UTC:20200407T160000
DTEND;TZID=UTC:20200407T160000
DTSTAMP:20260420T152927
CREATED:20200302T142655Z
LAST-MODIFIED:20200302T142655Z
UID:352-1586275200-1586275200@www.stocklandpc.org.uk
SUMMARY:Finance & Staff Committee
DESCRIPTION:Parish Council meetings are on the last Tuesday of the month\, held in the Victory Hall Committee Room\, Stockland\, EX14 9EF
URL:https://www.stocklandpc.org.uk/event/finance-staff-committee-2
LOCATION:Victory Hall Committee Room\, Victory Hall Committee Room\, Stockland\, EX14 9EF\, United Kingdom
CATEGORIES:Parish Council Meetings
ORGANIZER;CN="Stockland Parish Council":MAILTO:clerk@stocklandpc.org.uk
END:VEVENT
BEGIN:VEVENT
DTSTART;TZID=UTC:20200331T193000
DTEND;TZID=UTC:20200331T193000
DTSTAMP:20260420T152927
CREATED:20200302T142617Z
LAST-MODIFIED:20200302T142617Z
UID:349-1585683000-1585683000@www.stocklandpc.org.uk
SUMMARY:Parish Council Meeting
DESCRIPTION:Parish Council meetings are on the last Tuesday of the month\, held in the Victory Hall Committee Room\, Stockland\, EX14 9EF
URL:https://www.stocklandpc.org.uk/event/parish-council-meeting-4
LOCATION:Victory Hall Committee Room\, Victory Hall Committee Room\, Stockland\, EX14 9EF\, United Kingdom
CATEGORIES:Parish Council Meetings
ORGANIZER;CN="Stockland Parish Council":MAILTO:clerk@stocklandpc.org.uk
END:VEVENT
BEGIN:VEVENT
DTSTART;TZID=UTC:20200325T193000
DTEND;TZID=UTC:20200325T193000
DTSTAMP:20260420T152927
CREATED:20200302T142542Z
LAST-MODIFIED:20200302T142542Z
UID:346-1585164600-1585164600@www.stocklandpc.org.uk
SUMMARY:Annual Parish Meeting
DESCRIPTION:For all electors\,annual report from Council
URL:https://www.stocklandpc.org.uk/event/annual-parish-meeting
LOCATION:Victory Hall Committee Room\, Victory Hall Committee Room\, Stockland\, EX14 9EF\, United Kingdom
CATEGORIES:Parish Council Meetings
ORGANIZER;CN="Stockland Parish Council":MAILTO:clerk@stocklandpc.org.uk
END:VEVENT
BEGIN:VEVENT
DTSTART;TZID=UTC:20200311T160000
DTEND;TZID=UTC:20200311T160000
DTSTAMP:20260420T152927
CREATED:20200302T142459Z
LAST-MODIFIED:20200302T142459Z
UID:343-1583942400-1583942400@www.stocklandpc.org.uk
SUMMARY:Turbaries Management Committee
DESCRIPTION:Parish Council meetings are on the last Tuesday of the month\, held in the Victory Hall Committee Room\, Stockland\, EX14 9EF
URL:https://www.stocklandpc.org.uk/event/turbaries-management-committee
LOCATION:Victory Hall Committee Room\, Victory Hall Committee Room\, Stockland\, EX14 9EF\, United Kingdom
CATEGORIES:Parish Council Meetings
ORGANIZER;CN="Stockland Parish Council":MAILTO:clerk@stocklandpc.org.uk
END:VEVENT
BEGIN:VEVENT
DTSTART;TZID=UTC:20200225T193000
DTEND;TZID=UTC:20200225T193000
DTSTAMP:20260420T152927
CREATED:20200302T141754Z
LAST-MODIFIED:20200302T141754Z
UID:340-1582659000-1582659000@www.stocklandpc.org.uk
SUMMARY:Parish Council Meeting
DESCRIPTION:Parish Council meetings are on the last Tuesday of the month\, held in the Victory Hall Committee Room\, Stockland\, EX14 9EF
URL:https://www.stocklandpc.org.uk/event/parish-council-meeting-3
LOCATION:Victory Hall Committee Room\, Victory Hall Committee Room\, Stockland\, EX14 9EF\, United Kingdom
CATEGORIES:Parish Council Meetings
ORGANIZER;CN="Stockland Parish Council":MAILTO:clerk@stocklandpc.org.uk
END:VEVENT
BEGIN:VEVENT
DTSTART;TZID=UTC:20200121T193000
DTEND;TZID=UTC:20200121T193000
DTSTAMP:20260420T152927
CREATED:20200302T141525Z
LAST-MODIFIED:20200302T141525Z
UID:337-1579635000-1579635000@www.stocklandpc.org.uk
SUMMARY:Parish Council Meeting
DESCRIPTION:Parish Council meetings are on the last Tuesday of the month\, held in the Victory Hall Committee Room\, Stockland\, EX14 9EF
URL:https://www.stocklandpc.org.uk/event/parish-council-meeting-2
LOCATION:Victory Hall Committee Room\, Victory Hall Committee Room\, Stockland\, EX14 9EF\, United Kingdom
CATEGORIES:Parish Council Meetings
ORGANIZER;CN="Stockland Parish Council":MAILTO:clerk@stocklandpc.org.uk
END:VEVENT
BEGIN:VEVENT
DTSTART;TZID=UTC:20200114T170000
DTEND;TZID=UTC:20200114T170000
DTSTAMP:20260420T152927
CREATED:20200302T141007Z
LAST-MODIFIED:20200302T141007Z
UID:335-1579021200-1579021200@www.stocklandpc.org.uk
SUMMARY:Finance & Staff Committee
DESCRIPTION:Parish Council meetings are on the last Tuesday of the month\, held in the Victory Hall Committee Room\, Stockland\, EX14 9EF
URL:https://www.stocklandpc.org.uk/event/finance-staff-committee
LOCATION:Victory Hall Committee Room\, Victory Hall Committee Room\, Stockland\, EX14 9EF\, United Kingdom
CATEGORIES:Parish Council Meetings
ORGANIZER;CN="Stockland Parish Council":MAILTO:clerk@stocklandpc.org.uk
END:VEVENT
BEGIN:VEVENT
DTSTART;TZID=UTC:20180731T193000
DTEND;TZID=UTC:20180731T193000
DTSTAMP:20260420T152927
CREATED:20180619T164512Z
LAST-MODIFIED:20180619T164512Z
UID:120-1533065400-1533065400@www.stocklandpc.org.uk
SUMMARY:Parish Council Meeting
DESCRIPTION:Parish Council meetings are on the last Tuesday of the month\, held in the Victory Hall Committee Room\, Stockland\, EX14 9EF
URL:https://www.stocklandpc.org.uk/event/parish-council-meeting
LOCATION:Victory Hall Committee Room\, Victory Hall Committee Room\, Stockland\, EX14 9EF\, United Kingdom
CATEGORIES:Parish Council Meetings
ORGANIZER;CN="Stockland Parish Council":MAILTO:clerk@stocklandpc.org.uk
END:VEVENT
BEGIN:VEVENT
DTSTART;TZID=UTC:20180711T160000
DTEND;TZID=UTC:20180711T160000
DTSTAMP:20260420T152927
CREATED:20180619T164444Z
LAST-MODIFIED:20180619T164444Z
UID:118-1531324800-1531324800@www.stocklandpc.org.uk
SUMMARY:Parish Council Turbaries Management Committee Meeting
DESCRIPTION:Parish Council meetings are on the last Tuesday of the month\, held in the Victory Hall Committee Room\, Stockland\, EX14 9EF
URL:https://www.stocklandpc.org.uk/event/parish-council-turbaries-management-committee-meeting
LOCATION:Victory Hall Committee Room\, Victory Hall Committee Room\, Stockland\, EX14 9EF\, United Kingdom
CATEGORIES:Parish Council Meetings
ORGANIZER;CN="Stockland Parish Council":MAILTO:clerk@stocklandpc.org.uk
END:VEVENT
BEGIN:VEVENT
DTSTART;TZID=UTC:20180711T150000
DTEND;TZID=UTC:20180711T150000
DTSTAMP:20260420T152927
CREATED:20180619T164410Z
LAST-MODIFIED:20180619T164410Z
UID:116-1531321200-1531321200@www.stocklandpc.org.uk
SUMMARY:Parish Finance and Staff Committee Meeting
DESCRIPTION:Parish Council meetings are on the last Tuesday of the month\, held in the Victory Hall Committee Room\, Stockland\, EX14 9EF
URL:https://www.stocklandpc.org.uk/event/parish-finance-and-staff-committee-meeting
LOCATION:Victory Hall Committee Room\, Victory Hall Committee Room\, Stockland\, EX14 9EF\, United Kingdom
CATEGORIES:Parish Council Meetings
ORGANIZER;CN="Stockland Parish Council":MAILTO:clerk@stocklandpc.org.uk
END:VEVENT
END:VCALENDAR